BEGIN:VCALENDAR
VERSION:2.0
PRODID:-//OmniMagnetCalendar//EN
BEGIN:VEVENT
DTSTAMP:20190625T195740Z
STATUS:CONFIRMED
UID:hcsarasota.clubs.harvard.edu406
DTSTART:20201020T213000Z
DTEND:20201021T000000Z
LOCATION:Virtual, 1413 Main Street, SARASOTA, FL, 34236, USA,
SUMMARY:Join us for HBS Global Networking Night @5:30pm & Sarasota "After Event" @7:00pm on Oct. 20, 2020
DESCRIPTION:At 5:30 pm, join HBS Professors Joseph Fuller & William Kerr as they present live on “The Future of Work—and Managing the Impact of COVID-19,” followed at 7:00 pm by Sarasota Harvard Club's "After Event"
BEGIN:VALARM
TRIGGER:-PT15M
ACTION:DISPLAY
END:VALARM
TRANSP:OPAQUE
END:VEVENT
END:VCALENDAR
