BEGIN:VCALENDAR
VERSION:2.0
PRODID:-//OmniMagnetCalendar//EN
BEGIN:VEVENT
DTSTAMP:20190625T195740Z
STATUS:CONFIRMED
UID:hcsarasota.clubs.harvard.edu397
DTSTART:20200313T153000Z
DTEND:20200313T173000Z
LOCATION:The Sarasota Yacht Club, 1100 John Ringling Boulevard, Sarasota, FL, 34236, United States of America,
SUMMARY:ANNOUNCING: Sarasota Harvard Club's MAR 13, 2020 LUNCHEON - Raymond James SVP Alexandra Band
DESCRIPTION:Join us on MARCH 13, 2020 at The Sarasota Yacht Club for Lunch with Raymond James SVP Alexandra Band who will discuss "Different M&A Strategies in 2020"
BEGIN:VALARM
TRIGGER:-PT15M
ACTION:DISPLAY
END:VALARM
TRANSP:OPAQUE
END:VEVENT
END:VCALENDAR
