BEGIN:VCALENDAR
VERSION:2.0
PRODID:-//OmniMagnetCalendar//EN
BEGIN:VEVENT
DTSTAMP:20190625T195740Z
STATUS:CONFIRMED
UID:hcsarasota.clubs.harvard.edu392
DTSTART:20200219T220000Z
DTEND:20200220T000000Z
LOCATION:Cafe Amici, 1371 Main Street, SARASOTA, FL, 34236, USA,
SUMMARY:ANNOUNCING: Sarasota Harvard Club's February 2020 HAPPY HOUR 2/19/2020, 5:00-7:00 PM @ CAFE AMICI
DESCRIPTION:Join fellow Harvard Alumni & Friends at the Sarasota Harvard Club's February 2020 Happy Hour !!
BEGIN:VALARM
TRIGGER:-PT15M
ACTION:DISPLAY
END:VALARM
TRANSP:OPAQUE
END:VEVENT
END:VCALENDAR
