BEGIN:VCALENDAR
VERSION:2.0
PRODID:-//OmniMagnetCalendar//EN
BEGIN:VEVENT
DTSTAMP:20190625T195740Z
STATUS:CONFIRMED
UID:hcsarasota.clubs.harvard.edu359
DTSTART:20181109T163000Z
DTEND:20181109T183000Z
LOCATION:Michael's on East, 1212 South East Avenue, Sarasota, FL, 34239, United States of America,
SUMMARY:ANNOUNCING: SARASOTA HARVARD CLUB'S NOVEMBER 9, 2018 LUNCHEON with Vice Admiral Jan E. Tighe USN
DESCRIPTION:Join us for our November 2018 luncheon with Vice Admiral Jan E. Tighe USN  to hear her speak about "Cybersecurity" Friday November 9, 2018 11:30AM – 1:30PM at Michael’s On East
BEGIN:VALARM
TRIGGER:-PT15M
ACTION:DISPLAY
END:VALARM
TRANSP:OPAQUE
END:VEVENT
END:VCALENDAR
